Workbook
Name TruckingCo: トラック会社!$B$2:$B$21

Sheet INTRO
B3: 10月9日（金）12:00までに、下記の各シートに搬出入予約情報をご記入ください。
C5: 1.空コンテナ搬入予約情報
C6: 2.実入りコンテナ搬入予約情報
C7: 3.空コンテナ搬出予約情報
C8: 4.実入りコンテナ搬出予約情報

Sheet 1.空コンテナ搬入予約情報
B1: 赤色でマークされている項目は必須項目です。 | D1: SCAC、元請コードまたは船社コードを入力してください。
A2: No | B2: Trucking Co. | C2: Trucking Co. Code | D2: SCAC | E2: PRIN OPR | F2: PRIN OPR | G2: OPR | H2: B/L No | I2: Container No | J2: Size & Type | K2: TARE W/T (kg)
A3: 番号 | B3: トラック会社 | C3: トラック会社コード | D3: SCAC | E3: 元請 | F3: 元請コード | G3: 船社コード | H3: B/L No | I3: コンテナ番号 | J3: サイズ・タイプ | K3: TARE W/T (kg)
A4: 1 | B4: スミセキ・コンテック株式会社 | C4: =_xlfn.XLOOKUP(B4,TruckingCo,トラック会社!$C$2:$C$21,"") -> C001790 | F4: =_xlfn.XLOOKUP(E4, 元請!$C$2:$C$5, 元請!$B$2:$B$5, "") | H4: Sample | J4: 20DC | L4: Sample
A5: 2 | C5: =_xlfn.XLOOKUP(B5,TruckingCo,トラック会社!$C$2:$C$21,"") | F5: =_xlfn.XLOOKUP(E5, 元請!$C$2:$C$5, 元請!$B$2:$B$5, "")
A6: 3 | C6: =_xlfn.XLOOKUP(B6,TruckingCo,トラック会社!$C$2:$C$21,"") | F6: =_xlfn.XLOOKUP(E6, 元請!$C$2:$C$5, 元請!$B$2:$B$5, "")
A7: 4 | C7: =_xlfn.XLOOKUP(B7,TruckingCo,トラック会社!$C$2:$C$21,"") | F7: =_xlfn.XLOOKUP(E7, 元請!$C$2:$C$5, 元請!$B$2:$B$5, "")
A8: 5 | C8: =_xlfn.XLOOKUP(B8,TruckingCo,トラック会社!$C$2:$C$21,"") | F8: =_xlfn.XLOOKUP(E8, 元請!$C$2:$C$5, 元請!$B$2:$B$5, "")
A9: 6 | C9: =_xlfn.XLOOKUP(B9,TruckingCo,トラック会社!$C$2:$C$21,"") | F9: =_xlfn.XLOOKUP(E9, 元請!$C$2:$C$5, 元請!$B$2:$B$5, "")
A10: 7 | C10: =_xlfn.XLOOKUP(B10,TruckingCo,トラック会社!$C$2:$C$21,"") | F10: =_xlfn.XLOOKUP(E10, 元請!$C$2:$C$5, 元請!$B$2:$B$5, "")
A11: 8 | C11: =_xlfn.XLOOKUP(B11,TruckingCo,トラック会社!$C$2:$C$21,"") | F11: =_xlfn.XLOOKUP(E11, 元請!$C$2:$C$5, 元請!$B$2:$B$5, "")
A12: 9 | C12: =_xlfn.XLOOKUP(B12,TruckingCo,トラック会社!$C$2:$C$21,"") | F12: =_xlfn.XLOOKUP(E12, 元請!$C$2:$C$5, 元請!$B$2:$B$5, "")
A13: 10 | C13: =_xlfn.XLOOKUP(B13,TruckingCo,トラック会社!$C$2:$C$21,"") | F13: =_xlfn.XLOOKUP(E13, 元請!$C$2:$C$5, 元請!$B$2:$B$5, "")
A14: 11 | C14: =_xlfn.XLOOKUP(B14,TruckingCo,トラック会社!$C$2:$C$21,"") | F14: =_xlfn.XLOOKUP(E14, 元請!$C$2:$C$5, 元請!$B$2:$B$5, "")
A15: 12 | C15: =_xlfn.XLOOKUP(B15,TruckingCo,トラック会社!$C$2:$C$21,"") | F15: =_xlfn.XLOOKUP(E15, 元請!$C$2:$C$5, 元請!$B$2:$B$5, "")
A16: 13 | C16: =_xlfn.XLOOKUP(B16,TruckingCo,トラック会社!$C$2:$C$21,"") | F16: =_xlfn.XLOOKUP(E16, 元請!$C$2:$C$5, 元請!$B$2:$B$5, "")
... A165: 162 | C165: =_xlfn.XLOOKUP(B165,TruckingCo,トラック会社!$C$2:$C$21,"") | F165: =_xlfn.XLOOKUP(E165, 元請!$C$2:$C$5, 元請!$B$2:$B$5, "")

Sheet 2.実入りコンテナ搬入予約情報
B1: 赤色でマークされている項目は必須項目です。 | D1: SCAC、元請コードまたは船社コードを入力してください。
A2: No | B2: Trucking Co. | C2: Trucking Co. Code | D2: SCAC | E2: PRIN OPR | F2: PRIN OPR | G2: OPR | H2: Booking No | I2: Container No | J2: Size & Type | K2: Gross W/T (kg) | L2: Temperature (C) | M2: IMDG | N2: UNNo | O2: OOG
A3: 番号 | B3: トラック会社 | C3: トラック会社コード | D3: SCAC | E3: 元請 | F3: 元請コード | G3: 船社コード | H3: Booking No | I3: コンテナ番号 | J3: サイズ・タイプ | K3: Gross W/T (kg) | L3: Temperature (C) | M3: IMDG | N3: UNNo | O3: Left | P3: Right | Q3: Front | R3: Back | S3: Height
A4: 1 | B4: スミセキ・コンテック株式会社 | C4: =_xlfn.XLOOKUP(B4,TruckingCo,トラック会社!$C$2:$C$21,"") -> C001790 | E4: ナラサキ | F4: =_xlfn.XLOOKUP(E4, 元請!$C$2:$C$5, 元請!$B$2:$B$5, "") -> 1 | H4: Sample | J4: 20DC
A5: 2 | C5: =_xlfn.XLOOKUP(B5,TruckingCo,トラック会社!$C$2:$C$21,"") | F5: =_xlfn.XLOOKUP(E5, 元請!$C$2:$C$5, 元請!$B$2:$B$5, "")
A6: 3 | C6: =_xlfn.XLOOKUP(B6,TruckingCo,トラック会社!$C$2:$C$21,"") | F6: =_xlfn.XLOOKUP(E6, 元請!$C$2:$C$5, 元請!$B$2:$B$5, "")
A7: 4 | C7: =_xlfn.XLOOKUP(B7,TruckingCo,トラック会社!$C$2:$C$21,"") | F7: =_xlfn.XLOOKUP(E7, 元請!$C$2:$C$5, 元請!$B$2:$B$5, "")
A8: 5 | C8: =_xlfn.XLOOKUP(B8,TruckingCo,トラック会社!$C$2:$C$21,"") | F8: =_xlfn.XLOOKUP(E8, 元請!$C$2:$C$5, 元請!$B$2:$B$5, "")
A9: 6 | C9: =_xlfn.XLOOKUP(B9,TruckingCo,トラック会社!$C$2:$C$21,"") | F9: =_xlfn.XLOOKUP(E9, 元請!$C$2:$C$5, 元請!$B$2:$B$5, "")
A10: 7 | C10: =_xlfn.XLOOKUP(B10,TruckingCo,トラック会社!$C$2:$C$21,"") | F10: =_xlfn.XLOOKUP(E10, 元請!$C$2:$C$5, 元請!$B$2:$B$5, "")
A11: 8 | C11: =_xlfn.XLOOKUP(B11,TruckingCo,トラック会社!$C$2:$C$21,"") | F11: =_xlfn.XLOOKUP(E11, 元請!$C$2:$C$5, 元請!$B$2:$B$5, "")
A12: 9 | C12: =_xlfn.XLOOKUP(B12,TruckingCo,トラック会社!$C$2:$C$21,"") | F12: =_xlfn.XLOOKUP(E12, 元請!$C$2:$C$5, 元請!$B$2:$B$5, "")
A13: 10 | C13: =_xlfn.XLOOKUP(B13,TruckingCo,トラック会社!$C$2:$C$21,"") | F13: =_xlfn.XLOOKUP(E13, 元請!$C$2:$C$5, 元請!$B$2:$B$5, "")
A14: 11 | C14: =_xlfn.XLOOKUP(B14,TruckingCo,トラック会社!$C$2:$C$21,"") | F14: =_xlfn.XLOOKUP(E14, 元請!$C$2:$C$5, 元請!$B$2:$B$5, "")
A15: 12 | C15: =_xlfn.XLOOKUP(B15,TruckingCo,トラック会社!$C$2:$C$21,"") | F15: =_xlfn.XLOOKUP(E15, 元請!$C$2:$C$5, 元請!$B$2:$B$5, "")
A16: 13 | C16: =_xlfn.XLOOKUP(B16,TruckingCo,トラック会社!$C$2:$C$21,"") | F16: =_xlfn.XLOOKUP(E16, 元請!$C$2:$C$5, 元請!$B$2:$B$5, "")
... A165: 162 | C165: =_xlfn.XLOOKUP(B165,TruckingCo,トラック会社!$C$2:$C$21,"") | F165: =_xlfn.XLOOKUP(E165, 元請!$C$2:$C$5, 元請!$B$2:$B$5, "")

Sheet 3.空コンテナ搬出予約情報
B1: 赤色でマークされている項目は必須項目です。 | D1: SCAC、元請コードまたは船社コードを入力してください。
A2: No | B2: Trucking Co. | C2: Trucking Co. Code | D2: SCAC | E2: PRIN OPR | F2: PRIN OPR | G2: OPR | H2: Booking No | I2: Lease OPR | J2: Size & Type | K2: Van Code
A3: 番号 | B3: トラック会社 | C3: トラック会社コード | D3: SCAC | E3: 元請 | F3: 元請コード | G3: 船社コード | H3: Booking No | I3: Lease 船社コード | J3: サイズ・タイプ | K3: Van Code
A4: 1 | B4: スミセキ・コンテック株式会社 | C4: =_xlfn.XLOOKUP(B4,TruckingCo,トラック会社!$C$2:$C$21,"") -> C001790 | E4: ナラサキ | F4: =_xlfn.XLOOKUP(E4, 元請!$C$2:$C$5, 元請!$B$2:$B$5, "") -> 1 | H4: Sample | J4: 20DC
A5: 2 | C5: =_xlfn.XLOOKUP(B5,TruckingCo,トラック会社!$C$2:$C$21,"") | F5: =_xlfn.XLOOKUP(E5, 元請!$C$2:$C$5, 元請!$B$2:$B$5, "")
A6: 3 | C6: =_xlfn.XLOOKUP(B6,TruckingCo,トラック会社!$C$2:$C$21,"") | F6: =_xlfn.XLOOKUP(E6, 元請!$C$2:$C$5, 元請!$B$2:$B$5, "")
A7: 4 | C7: =_xlfn.XLOOKUP(B7,TruckingCo,トラック会社!$C$2:$C$21,"") | F7: =_xlfn.XLOOKUP(E7, 元請!$C$2:$C$5, 元請!$B$2:$B$5, "")
A8: 5 | C8: =_xlfn.XLOOKUP(B8,TruckingCo,トラック会社!$C$2:$C$21,"") | F8: =_xlfn.XLOOKUP(E8, 元請!$C$2:$C$5, 元請!$B$2:$B$5, "")
A9: 6 | C9: =_xlfn.XLOOKUP(B9,TruckingCo,トラック会社!$C$2:$C$21,"") | F9: =_xlfn.XLOOKUP(E9, 元請!$C$2:$C$5, 元請!$B$2:$B$5, "")
A10: 7 | C10: =_xlfn.XLOOKUP(B10,TruckingCo,トラック会社!$C$2:$C$21,"") | F10: =_xlfn.XLOOKUP(E10, 元請!$C$2:$C$5, 元請!$B$2:$B$5, "")
A11: 8 | C11: =_xlfn.XLOOKUP(B11,TruckingCo,トラック会社!$C$2:$C$21,"") | F11: =_xlfn.XLOOKUP(E11, 元請!$C$2:$C$5, 元請!$B$2:$B$5, "")
A12: 9 | C12: =_xlfn.XLOOKUP(B12,TruckingCo,トラック会社!$C$2:$C$21,"") | F12: =_xlfn.XLOOKUP(E12, 元請!$C$2:$C$5, 元請!$B$2:$B$5, "")
A13: 10 | C13: =_xlfn.XLOOKUP(B13,TruckingCo,トラック会社!$C$2:$C$21,"") | F13: =_xlfn.XLOOKUP(E13, 元請!$C$2:$C$5, 元請!$B$2:$B$5, "")
A14: 11 | C14: =_xlfn.XLOOKUP(B14,TruckingCo,トラック会社!$C$2:$C$21,"") | F14: =_xlfn.XLOOKUP(E14, 元請!$C$2:$C$5, 元請!$B$2:$B$5, "")
A15: 12 | C15: =_xlfn.XLOOKUP(B15,TruckingCo,トラック会社!$C$2:$C$21,"") | F15: =_xlfn.XLOOKUP(E15, 元請!$C$2:$C$5, 元請!$B$2:$B$5, "")
A16: 13 | C16: =_xlfn.XLOOKUP(B16,TruckingCo,トラック会社!$C$2:$C$21,"") | F16: =_xlfn.XLOOKUP(E16, 元請!$C$2:$C$5, 元請!$B$2:$B$5, "")
... A165: 162 | C165: =_xlfn.XLOOKUP(B165,TruckingCo,トラック会社!$C$2:$C$21,"") | F165: =_xlfn.XLOOKUP(E165, 元請!$C$2:$C$5, 元請!$B$2:$B$5, "")

Sheet 4.実入りコンテナ搬出予約情報
B1: 赤色でマークされている項目は必須項目です。 | D1: SCAC、元請コードまたは船社コードを入力してください。
A2: No | B2: Trucking Co. | C2: Trucking Co. Code | D2: SCAC | E2: PRIN OPR | F2: PRIN OPR | G2: OPR | H2: B/L No | I2: Container No
A3: 番号 | B3: トラック会社 | C3: トラック会社コード | D3: SCAC | E3: 元請 | F3: 元請コード | G3: 船社コード | H3: B/L No | I3: コンテナ番号
A4: 1 | B4: スミセキ・コンテック株式会社 | C4: =_xlfn.XLOOKUP(B4,TruckingCo,トラック会社!$C$2:$C$21,"") -> C001790 | E4: ナラサキ | F4: =_xlfn.XLOOKUP(E4, 元請!$C$2:$C$5, 元請!$B$2:$B$5, "") -> 1 | H4: Sample
A5: 2 | C5: =_xlfn.XLOOKUP(B5,TruckingCo,トラック会社!$C$2:$C$21,"") | F5: =_xlfn.XLOOKUP(E5, 元請!$C$2:$C$5, 元請!$B$2:$B$5, "")
A6: 3 | C6: =_xlfn.XLOOKUP(B6,TruckingCo,トラック会社!$C$2:$C$21,"") | F6: =_xlfn.XLOOKUP(E6, 元請!$C$2:$C$5, 元請!$B$2:$B$5, "")
A7: 4 | C7: =_xlfn.XLOOKUP(B7,TruckingCo,トラック会社!$C$2:$C$21,"") | F7: =_xlfn.XLOOKUP(E7, 元請!$C$2:$C$5, 元請!$B$2:$B$5, "")
A8: 5 | C8: =_xlfn.XLOOKUP(B8,TruckingCo,トラック会社!$C$2:$C$21,"") | F8: =_xlfn.XLOOKUP(E8, 元請!$C$2:$C$5, 元請!$B$2:$B$5, "")
A9: 6 | C9: =_xlfn.XLOOKUP(B9,TruckingCo,トラック会社!$C$2:$C$21,"") | F9: =_xlfn.XLOOKUP(E9, 元請!$C$2:$C$5, 元請!$B$2:$B$5, "")
A10: 7 | C10: =_xlfn.XLOOKUP(B10,TruckingCo,トラック会社!$C$2:$C$21,"") | F10: =_xlfn.XLOOKUP(E10, 元請!$C$2:$C$5, 元請!$B$2:$B$5, "")
A11: 8 | C11: =_xlfn.XLOOKUP(B11,TruckingCo,トラック会社!$C$2:$C$21,"") | F11: =_xlfn.XLOOKUP(E11, 元請!$C$2:$C$5, 元請!$B$2:$B$5, "")
A12: 9 | C12: =_xlfn.XLOOKUP(B12,TruckingCo,トラック会社!$C$2:$C$21,"") | F12: =_xlfn.XLOOKUP(E12, 元請!$C$2:$C$5, 元請!$B$2:$B$5, "")
A13: 10 | C13: =_xlfn.XLOOKUP(B13,TruckingCo,トラック会社!$C$2:$C$21,"") | F13: =_xlfn.XLOOKUP(E13, 元請!$C$2:$C$5, 元請!$B$2:$B$5, "")
A14: 11 | C14: =_xlfn.XLOOKUP(B14,TruckingCo,トラック会社!$C$2:$C$21,"") | F14: =_xlfn.XLOOKUP(E14, 元請!$C$2:$C$5, 元請!$B$2:$B$5, "")
A15: 12 | C15: =_xlfn.XLOOKUP(B15,TruckingCo,トラック会社!$C$2:$C$21,"") | F15: =_xlfn.XLOOKUP(E15, 元請!$C$2:$C$5, 元請!$B$2:$B$5, "")
A16: 13 | C16: =_xlfn.XLOOKUP(B16,TruckingCo,トラック会社!$C$2:$C$21,"") | F16: =_xlfn.XLOOKUP(E16, 元請!$C$2:$C$5, 元請!$B$2:$B$5, "")
... A165: 162 | C165: =_xlfn.XLOOKUP(B165,TruckingCo,トラック会社!$C$2:$C$21,"") | F165: =_xlfn.XLOOKUP(E165, 元請!$C$2:$C$5, 元請!$B$2:$B$5, "")

Sheet トラック会社
A1: 番号 | B1: トラック会社 | C1: トラック会社コード
A2: 1 | B2: （株）日良運輸 | C2: C001600
A3: 2 | B3: 第三運輸（株） | C3: C001630
A4: 3 | B4: ぺがさす物流株式会社 | C4: C001640
A5: 4 | B5: 株式会社萌運輸 | C5: C001660
A6: 5 | B6: ブルーエキスプレス（株） | C6: C001680
A7: 6 | B7: 株式会社ユーロエクスプレス | C7: C001780
A8: 7 | B8: スミセキ・コンテック株式会社 | C8: C001790
A9: 8 | B9: 有限会社 ジャントレーディングカンパニー | C9: C001940
A10: 9 | B10: 大北運輸株式会社 | C10: C001950
A11: 10 | B11: 有限会社 弘富通商 | C11: C001960
A12: 11 | B12: 栗林海陸輸送株式会社 | C12: C001970
A13: 12 | B13: 恒大産業株式会社 | C13: C001980
... A21: 20 | B21: 小樽倉庫株式会社 | C21: C260025

Sheet 元請
B1: 元請 | C1: 元請コード
B2: 1 | C2: ナラサキ
B3: 2 | C3: 栗林
B4: 3 | C4: 苫埠
B5: 4 | C5: 北旺

Sheet ISO
B2: Private ISO | C2: Standard ISO
B3: 20DC | C3: 22G0
B4: 20FR | C4: 22P0
B5: 20HC | C5: 25G0
B6: 20HH | C6: 28G0
B7: 20HT | C7: 20S0
B8: 20OH | C8: 25U0
B9: 20OT | C9: 22U0
B10: 20RE | C10: 22R0
B11: 20RH | C11: 22S0
B12: 20T8 | C12: 20T8
B13: 20TK | C13: 22T0
... B23: 40TK | C23: 42T0

Sheet VAN
B1: VAN Code
B2: 1
B3: 2
B4: 3
B5: 4
B6: 5
B7: 6
